BEGIN:VCALENDAR
VERSION:2.0
PRODID:-//Eneo Waremme - ECPv6.15.20//NONSGML v1.0//EN
CALSCALE:GREGORIAN
METHOD:PUBLISH
X-ORIGINAL-URL:https://eneo-waremme.be
X-WR-CALDESC:Évènements pour Eneo Waremme
REFRESH-INTERVAL;VALUE=DURATION:PT1H
X-Robots-Tag:noindex
X-PUBLISHED-TTL:PT1H
BEGIN:VTIMEZONE
TZID:Europe/Brussels
BEGIN:DAYLIGHT
TZOFFSETFROM:+0100
TZOFFSETTO:+0200
TZNAME:CEST
DTSTART:20240331T010000
END:DAYLIGHT
BEGIN:STANDARD
TZOFFSETFROM:+0200
TZOFFSETTO:+0100
TZNAME:CET
DTSTART:20241027T010000
END:STANDARD
BEGIN:DAYLIGHT
TZOFFSETFROM:+0100
TZOFFSETTO:+0200
TZNAME:CEST
DTSTART:20250330T010000
END:DAYLIGHT
BEGIN:STANDARD
TZOFFSETFROM:+0200
TZOFFSETTO:+0100
TZNAME:CET
DTSTART:20251026T010000
END:STANDARD
BEGIN:DAYLIGHT
TZOFFSETFROM:+0100
TZOFFSETTO:+0200
TZNAME:CEST
DTSTART:20260329T010000
END:DAYLIGHT
BEGIN:STANDARD
TZOFFSETFROM:+0200
TZOFFSETTO:+0100
TZNAME:CET
DTSTART:20261025T010000
END:STANDARD
END:VTIMEZONE
BEGIN:VEVENT
DTSTART;VALUE=DATE:20250429
DTEND;VALUE=DATE:20250430
DTSTAMP:20260419T204958
CREATED:20250323T202832Z
LAST-MODIFIED:20250323T202832Z
UID:9592-1745884800-1745971199@eneo-waremme.be
SUMMARY:Excursion à Namur & Treignes - Le mardi 29 avril 2025
DESCRIPTION:Attention : ce mois-ci l’excursion a lieu le mardi !!!\nProgramme :\nDépart:\n\nHalte 1 : (7h30) : Place communale de Longchamp – Arrêt de bus (Waremme).\nHalte 2 : (7h35) : Rue des Fabriques entre la clinique J. Wauters et le Nucky’s\nHalte 3 : (7h40) : Athénée Royal – Arrêt de bus\nHalte 4 : (7h45) : Comarché (ancien Match Nord) – Arrêt de bus\n\nMatin : Parfumerie Delforge\n\nCafé d’accueil en route\n9h30 : visite guidée de la parfumerie Delforge à la citadelle de Namur (route merveilleuse\, 60 – www.delforge.com)\n\nDîner\n\nÀ l’espace Arthur Masson rue E. Defraire\, 29 à 5670 – Treignes\n\nPotage du jour :\nVitoulets\, croquettes\, crudités ;\nGâteau de Toine ;\n1 boisson + café.\n\n\n\nAprès-midi : Espace Arthur Masson (www.espacemasson.be)\n\nVisite guidée du parcours-spectacle de Toine Culot (le héros des histoires de l’écrivain A. Masson).\nNous avons déjà assisté à l’école d’autrefois à Treignes\n\nRetour :\n\nRetour à Waremme vers 19h00 comme d’habitude.\n\nInscriptions\nPrix : 80€À payer pour le 16 avril au plus tard sur le compte BE 94 7320 6310 4514 d’Énéo excursions. \n❗ Ne pas oublier de mentionner : \n\nNamur\nle(s) nom(s) du(des) participant(s) et numéro de la halte (*)\, si c’est votre première excursion ou si vous changez de halte.\n\nCe prix comprend le transport en car\,  café d’accueil\, le dîner avec boissons et les 2 visites guidées. \nMerci de me communiquer votre numéro de GSM si je ne l’ai pas.\nJe vous contacterai si je ne l’ai pas. \nLa réservation sera prise en compte dès réception du paiement.\nPour plus d’infos : Francis GERMEYS (francis.germeys@skynet.be – 0476/49.25.45) \nAttention : en cas d’absence à une excursion\, un remboursement partiel (certains frais sont engagés avant l’excursion) n’est envisageable qu’avec un certificat médical ! \n(*) Rappel des haltes et des déchargements qui se font dans le même ordre : \n\nHalte 1 : Place communale de Longchamp (Waremme).\nHalte 2 : Rue des Fabriques entre l’hôpital et le Nucky’s\nHalte 3 : Athénée Royal\nHalte 4 : Comarché (ancien Match Nord)
URL:https://eneo-waremme.be/evenement/excursion-a-namur-treignes-le-mardi-29-avril-2025/
CATEGORIES:Excursion
ATTACH;FMTTYPE=image/png:https://eneo-waremme.be/wp-content/uploads/2025/03/Excursion-2025-04-Parfumerie-Delforge-General.png
ORGANIZER;CN="Secteur de Waremme":MAILTO:eneo.waremme@gmail.com
END:VEVENT
END:VCALENDAR