BEGIN:VCALENDAR
VERSION:2.0
PRODID:-//Eneo Waremme - ECPv6.15.20//NONSGML v1.0//EN
CALSCALE:GREGORIAN
METHOD:PUBLISH
X-ORIGINAL-URL:https://eneo-waremme.be
X-WR-CALDESC:Évènements pour Eneo Waremme
REFRESH-INTERVAL;VALUE=DURATION:PT1H
X-Robots-Tag:noindex
X-PUBLISHED-TTL:PT1H
BEGIN:VTIMEZONE
TZID:Europe/Brussels
BEGIN:DAYLIGHT
TZOFFSETFROM:+0100
TZOFFSETTO:+0200
TZNAME:CEST
DTSTART:20240331T010000
END:DAYLIGHT
BEGIN:STANDARD
TZOFFSETFROM:+0200
TZOFFSETTO:+0100
TZNAME:CET
DTSTART:20241027T010000
END:STANDARD
BEGIN:DAYLIGHT
TZOFFSETFROM:+0100
TZOFFSETTO:+0200
TZNAME:CEST
DTSTART:20250330T010000
END:DAYLIGHT
BEGIN:STANDARD
TZOFFSETFROM:+0200
TZOFFSETTO:+0100
TZNAME:CET
DTSTART:20251026T010000
END:STANDARD
BEGIN:DAYLIGHT
TZOFFSETFROM:+0100
TZOFFSETTO:+0200
TZNAME:CEST
DTSTART:20260329T010000
END:DAYLIGHT
BEGIN:STANDARD
TZOFFSETFROM:+0200
TZOFFSETTO:+0100
TZNAME:CET
DTSTART:20261025T010000
END:STANDARD
END:VTIMEZONE
BEGIN:VEVENT
DTSTART;VALUE=DATE:20250625
DTEND;VALUE=DATE:20250626
DTSTAMP:20260421T171817
CREATED:20250521T141240Z
LAST-MODIFIED:20250521T201218Z
UID:9783-1750809600-1750895999@eneo-waremme.be
SUMMARY:Journée « Bien-être et lien social » 25 juin 2025
DESCRIPTION:La MC et Énéo collaborent avec l’équipe du Plan de cohésion sociale de Waremme pour vous convier à une magnifique journée poursuivant plusieurs objectifs : \n\nrecréer du lien social entre tous : jeunes\, aînés\, personnes en situation d’handicap…\nproposer un programme varié d’activités accessibles à toutes et tous\noffrir une journée d’initiation sportive\, de détente en groupes intergénérationnels et inclusifs.\n\n\n\n\nAdresse :\nCentre Sportif Edmond Leburton\nRue des Prés \, 43 – 4300 Waremme\n\n\nHoraire :\n9h00\naccueil au centre sportif et dispatching des participants au sein des activités\n\n\n9h30 – 12h30\nactivités intérieures et extérieures\n\n\n12h30 – 13h30\nrepas libre ( chacun vient avec son pique-nique)\n\n\n13h30 – 15h30\nreprise des activités\n\n\n15h30 – 16h30\nactivité de clôture et de cohésion  par le club de ZUMBA GOLD d’ Énéo rejoint par tous les participants\n\n\n\nProgramme :\nLes activités se dérouleront simultanément dans différents lieux proches et sont gratuites. \n\n\n\nActivités courtes\n(durée 30 minutes)\nActivités longues\n(durée 1h00 ou 1h30)\n\n\n\n\nJeux d’autrefois en bois\nBadminton\nPickleball\nBasketball\nPétanque\nVélo presse-fruits (province de Liège)\n\n\n\n\nMéditation dynamique (3 groupes d’1h00 le matin organisation MC)\nBalade à vélo* dans la campagne (1h- organisation Énéo encadrement J-P Dupriez)\nMarche ( 1h30)\nMini-golf (1h)\nKaraté\nYoga\nThéâtre\nRemise en forme en musique (2 groupes d’1h00 l’après-midi)\n\n\n\n\n\nEntre les activités:\nParticipation libre au tour en triporteur( GAL- Je Suis Hesbignon) \nInscription :\nLa MC et Énéo disposant de 30 places\, ne tardez pas à vous inscrire soit par e-mail eneo.waremme@gmail.com\, soit par téléphone Nathalie Boucher 0478/300453\nNous clôturerons les inscriptions le 09 juin. \nDe quelles informations avons-nous besoin ? \n\nVotre identité ( nom prénom) et vos données de contact mail ou GSM –\nVotre choix d’activités :\n\nSi vous participez à la journée entière\, choisissez au maximum 4 activités courtes (30 min) et 1 longue (1h30)\nSi vous participez à ½ journée (soit le matin soit l’après- midi\, choisissez 2 activités courtes (30 min) et 1 longue (1h30)\n\n\n\n\n*  Si vous choisissez l’activité vélo\, précisez- nous si vous avez votre propre vélo
URL:https://eneo-waremme.be/evenement/journee-bien-etre-et-lien-social-25-juin-2025/
LOCATION:Centre sportif « Edmond Leburton »\, Rue des Prés\, 43\, Waremme\, 4300
CATEGORIES:Solidarité,Sportif
END:VEVENT
END:VCALENDAR